BEGIN:VCALENDAR
VERSION:2.0
PRODID:-//Museu Tàpies - ECPv6.6.3//NONSGML v1.0//EN
CALSCALE:GREGORIAN
METHOD:PUBLISH
X-WR-CALNAME:Museu Tàpies
X-ORIGINAL-URL:https://museutapies.org
X-WR-CALDESC:Esdeveniments per Museu Tàpies
REFRESH-INTERVAL;VALUE=DURATION:PT1H
X-Robots-Tag:noindex
X-PUBLISHED-TTL:PT1H
BEGIN:VTIMEZONE
TZID:Europe/Madrid
BEGIN:DAYLIGHT
TZOFFSETFROM:+0100
TZOFFSETTO:+0200
TZNAME:CEST
DTSTART:20240331T010000
END:DAYLIGHT
BEGIN:STANDARD
TZOFFSETFROM:+0200
TZOFFSETTO:+0100
TZNAME:CET
DTSTART:20241027T010000
END:STANDARD
END:VTIMEZONE
BEGIN:VEVENT
DTSTART;VALUE=DATE:20240916
DTEND;VALUE=DATE:20241126
DTSTAMP:20260422T023258
CREATED:20240718T073909Z
LAST-MODIFIED:20240902T150832Z
UID:10000804-1726444800-1732579199@museutapies.org
SUMMARY:Curs Gaudir UB: Antoni Tàpies i la pràctica de l’art
DESCRIPTION:Antoni Tàpies va néixer a Barcelona el 13 de desembre de 1923. Avui és reconegut com un dels artistes més destacats del segle XX. Tanmateix\, la seva obra continua essent relativament poc coneguda i sovint és considerada críptica i de difícil accés. En aquest curs desvelarem algunes claus per aproximar-nos a l’obra tapiana. A través de sessions teòriques i pràctiques que tindran lloc en diversos espais del museu\, en descobrirem diversos aspectes: la concepció artística que hi ha al darrere\, les tècniques i processos creatius\, els vincles amb l’art del seu temps i les aportacions que han fet a la història de l’art.
URL:https://museutapies.org/event/curs-gaudir-ub-antoni-tapies-i-la-practica-de-lart/
CATEGORIES:Educació
ATTACH;FMTTYPE=image/png:https://museutapies.org/wp-content/uploads/2024/07/curs-gaudir-ub.png
END:VEVENT
BEGIN:VEVENT
DTSTART;TZID=Europe/Madrid:20241019T120000
DTEND;TZID=Europe/Madrid:20241019T140000
DTSTAMP:20260422T023258
CREATED:20241004T130939Z
LAST-MODIFIED:20241020T152459Z
UID:10000855-1729339200-1729346400@museutapies.org
SUMMARY:Seguint el sol: Deprerreo
DESCRIPTION:  \n \nEl terrat del Museu Tàpies esdevindrà una ludoteca experimental per a Opimelissa\, un col·lectiu que cuina\, canta\, balla i moltes coses més. Seguirem el sol amb la ironia i l’humor tou de Júlia Barbany\, l’arquitectura de l’electro-cançó enfadosa de Petit Ibèric\, els càntics en clau filosòfica de Max Grosse sobre la vida i el mal d’amor d’un mitjó foradat i orfe\, l’egodeliri de la dramaturga i escriptora de ploma esmolada Berta Prieto —si encara no saps qui és\, vius en una cova!—\, amb el ritme de la DJ performer i militant de l’autogestió Meritxell de Soto\, l’energia desbordant de l’artista polifacètica i tendra punki-mare Belén Barenys\, amb la música llatina experimental dels Deprerreo\, amb el cos contorsionat de Candela Capitán\, que mostra la sexualització de les dones a cop de mètrica i convulsions. \nSeguint el sol és un cicle experimental de manifestacions sonores i escèniques de caràcter performatiu que presenta nou sessions inèdites de joves creadors. El cicle\, comissariat per Carolina Olivares Esturillo\, reivindica l’energia jove i inesgotable d’artistes que ompliran de llum i donaran una nova vida al solitari mitjó de Tàpies que presideix la terrassa del Museu. \n  \nSetena sessió: “Sonidos de Resistencia: Ecos de Venezuela”\, Colectivo Deprerreo \nEl terrat “Mitjò” del Museu Tàpies presenta la setena sessió del cicle de manifestacions sonores i d’experiments escènics “Seguint el Sol”\, i té el plaer d’acollir\, el 19 d’octubre del 2024\, a les 12h\, l’actuació del col·lectiu Deprerreo. \nAquest grup\, fundat pel productor musical veneçolà resident a Barcelona\, ​​Luis Miranda (@lilfemiranda)\, estrenarà una nova intervenció sonora en col·laboració amb les artistes veneçolanoses radicades a Barcelona: Aquil·les Ignacio Hinestrosa (@celestial.trash._)\, Marta Cruz (@candadisme) i Natalia Ortega Orozco (@_nana_ortegaorozco). Els visuals que es projectaran durant l’acció sonora pertanyen a l’arxiu de Luken Ignacio Quintana\, fundador del colectivo activista x Venezuela @hacha.machete. \n\nDeprerreo crearà en viu una cançó que evoca la resistència\, la llibertat i la riquesa cultural del Carib. La peça sonora no només celebrarà la diversitat cultural de Veneçuela\, sinó que també servirà com un alè per als més de 7.71 milions de migrants veneçolans que han deixat casa seva a la recerca d’un futur millor. \nA “Sonidos de Resistencia: Ecos de Venezuela” es mostrarà la gran riquesa cultural caribenya\, inspirada en el sincretisme espiritual\, la rebel·lia contracultural\, la connexió amb els ancestres i el reflex del poder comunitari en temps d’adversitat. A més\, serà ambientada per una temàtica espiritista\, traslladant així un missatge d’esperança i solidaritat. \nAquesta trobada busca visibilitzar la crisi social i cultural que enfronta Veneçuela\, ressaltant la força i la resiliència del seu poble \, a més del seu llegat artístic en un acte de resistència. Invoquem energies que promoguin canvis immediats i una profunda connexió amb tots aquells que no han pogut migrar. Uneix-te a nosaltres en aquesta celebració de la resistència cultural i l’esperança! \n\n\n\n· Comissariat i producció artística: Carolina Olivares Esturillo \n· Disseny: Ana Habash i Ignasi Ayats. \n· Il·lustració: Eduard Sales \n· Venda d’entrades mitjançant el web i a la recepció del museu. Aforament limitat. \n  \n\n\nEnllaç al cicle complet.
URL:https://museutapies.org/event/seguint-el-sol-deprerreo/
CATEGORIES:Programa públic
ATTACH;FMTTYPE=image/jpeg:https://museutapies.org/wp-content/uploads/2024/10/CORTE-CALE-PERO-FURRA-1.jpeg
END:VEVENT
END:VCALENDAR