BEGIN:VCALENDAR
VERSION:2.0
PRODID:-//Museu Tàpies - ECPv6.6.3//NONSGML v1.0//EN
CALSCALE:GREGORIAN
METHOD:PUBLISH
X-WR-CALNAME:Museu Tàpies
X-ORIGINAL-URL:https://museutapies.org
X-WR-CALDESC:Esdeveniments per Museu Tàpies
REFRESH-INTERVAL;VALUE=DURATION:PT1H
X-Robots-Tag:noindex
X-PUBLISHED-TTL:PT1H
BEGIN:VTIMEZONE
TZID:Europe/Madrid
BEGIN:DAYLIGHT
TZOFFSETFROM:+0100
TZOFFSETTO:+0200
TZNAME:CEST
DTSTART:20240331T010000
END:DAYLIGHT
BEGIN:STANDARD
TZOFFSETFROM:+0200
TZOFFSETTO:+0100
TZNAME:CET
DTSTART:20241027T010000
END:STANDARD
END:VTIMEZONE
BEGIN:VEVENT
DTSTART;TZID=Europe/Madrid:20241201T110000
DTEND;TZID=Europe/Madrid:20241201T123000
DTSTAMP:20260422T035441
CREATED:20240718T074320Z
LAST-MODIFIED:20241004T135359Z
UID:10000811-1733050800-1733056200@museutapies.org
SUMMARY:Parets\, murs o tàpies
DESCRIPTION:Durant la seva trajectòria\, Antoni Tàpies va explorar les noves possibilitats que oferia la pintura i va experimentar amb materials extrapictòrics\, com la pols de marbre\, per aconseguir diferents textures en les seves obres. Durant aquestes pràctiques\, segons va dir ell mateix\, el quadre el va sorprendre transformant-se en un mur.  \nUs heu fixat mai en els murs propers a casa vostra? Què ens expliquen? Com ho fan? Durant l’activitat volem escoltar les parets\, els murs i les tàpies. Conjuntament\, coneixerem el procés creatiu de les obres-mur d’Antoni Tàpies\, la seva capacitat comunicativa i la seva fascinació pels murs. Alhora\, tot fent una passejada\, ens fixarem en les marques de les parets que es troben al voltant del museu per descobrir quines històries ens expliquen. \nActivitat familiar.
URL:https://museutapies.org/event/parets-murs-o-tapies/
LOCATION:Museu Tàpies
CATEGORIES:Educació
ATTACH;FMTTYPE=image/jpeg:https://museutapies.org/wp-content/uploads/2024/07/ftapies240725_094-scaled.jpg
END:VEVENT
END:VCALENDAR