BEGIN:VCALENDAR
VERSION:2.0
PRODID:-//Museu Tàpies - ECPv6.6.3//NONSGML v1.0//EN
CALSCALE:GREGORIAN
METHOD:PUBLISH
X-ORIGINAL-URL:https://museutapies.org
X-WR-CALDESC:Esdeveniments per Museu Tàpies
REFRESH-INTERVAL;VALUE=DURATION:PT1H
X-Robots-Tag:noindex
X-PUBLISHED-TTL:PT1H
BEGIN:VTIMEZONE
TZID:Europe/Madrid
BEGIN:DAYLIGHT
TZOFFSETFROM:+0100
TZOFFSETTO:+0200
TZNAME:CEST
DTSTART:20250330T010000
END:DAYLIGHT
BEGIN:STANDARD
TZOFFSETFROM:+0200
TZOFFSETTO:+0100
TZNAME:CET
DTSTART:20251026T010000
END:STANDARD
END:VTIMEZONE
BEGIN:VEVENT
DTSTART;TZID=Europe/Madrid:20250213T190000
DTEND;TZID=Europe/Madrid:20250213T210000
DTSTAMP:20260422T084714
CREATED:20250117T125935Z
LAST-MODIFIED:20250203T130105Z
UID:10000876-1739473200-1739480400@museutapies.org
SUMMARY:Inauguració de l'exposició "Antoni Tàpies. La imaginació del món"
DESCRIPTION:  \nEl proper dijous 13 de febrer de 2025\, a les 19.00 h\, tindrà lloc la inauguració de l’exposició Antoni Tàpies. La imaginació del món\, mostra comissariada per Imma Prieto\, directora del Museu Tàpies\, i Pablo Allepuz\, conservador de la col·lecció del Museu Tàpies. \nAccés lliure fins completar l’aforament. \nUs hi esperem. \n 
URL:https://museutapies.org/event/inauguracio-de-lexposicio-antoni-tapies-la-imaginacio-del-mon/
ATTACH;FMTTYPE=image/png:https://museutapies.org/wp-content/uploads/2025/01/Screenshot_2.png
END:VEVENT
END:VCALENDAR