BEGIN:VCALENDAR
VERSION:2.0
PRODID:-//Museu Tàpies - ECPv6.6.3//NONSGML v1.0//EN
CALSCALE:GREGORIAN
METHOD:PUBLISH
X-ORIGINAL-URL:https://museutapies.org
X-WR-CALDESC:Esdeveniments per Museu Tàpies
REFRESH-INTERVAL;VALUE=DURATION:PT1H
X-Robots-Tag:noindex
X-PUBLISHED-TTL:PT1H
BEGIN:VTIMEZONE
TZID:Europe/Madrid
BEGIN:DAYLIGHT
TZOFFSETFROM:+0100
TZOFFSETTO:+0200
TZNAME:CEST
DTSTART:20250330T010000
END:DAYLIGHT
BEGIN:STANDARD
TZOFFSETFROM:+0200
TZOFFSETTO:+0100
TZNAME:CET
DTSTART:20251026T010000
END:STANDARD
END:VTIMEZONE
BEGIN:VEVENT
DTSTART;TZID=Europe/Madrid:20250301T120000
DTEND;TZID=Europe/Madrid:20250614T120000
DTSTAMP:20260422T102137
CREATED:20250204T114348Z
LAST-MODIFIED:20250619T151901Z
UID:10000887-1740830400-1749902400@museutapies.org
SUMMARY:Aproximacions. Visita comentada 2025
DESCRIPTION:Visita comentada a les exposicions en curs del Museu Tàpies\, amb una introducció a la història de l’edifici. \n  \nExposicions en curs: \n  \n· Antoni Tàpies. La imaginació del món \n· Marta Palau. Els meus camins són terrestres \n· Anna Malagrida. Opacitas. Velar la transparència \n· Noor Abed. A Night We Held Between \n  \n  \n \n 
URL:https://museutapies.org/event/aproximacions-visita-comentada-2025/
LOCATION:Museu Tàpies
CATEGORIES:Educació
ATTACH;FMTTYPE=image/jpeg:https://museutapies.org/wp-content/uploads/2025/02/i-k74b6sw-XL-1.jpg
END:VEVENT
BEGIN:VEVENT
DTSTART;VALUE=DATE:20250304
DTEND;VALUE=DATE:20250521
DTSTAMP:20260422T102137
CREATED:20250227T120221Z
LAST-MODIFIED:20250516T081553Z
UID:10000914-1741046400-1747785599@museutapies.org
SUMMARY:Els exilis (in)visibles
DESCRIPTION:Archivo General de la Nación de México \n  \nL’exili és una realitat molt difícil de visibilitzar\, ja que és\, abans que res\, una experiència de desarrelament interior. Tanmateix\, les artistes\, entre elles les cineastes que es van exiliar\, van intentar una vegada i una altra posar en escena la seva ferida. \nLa productora i directora de cinema Tània Balló i el cineasta\, teòric i divulgador de cinema Luis E. Parés ens proposen un cicle de cinema\, vinculat a la mostra Marta Palau. Els meus camins són terrestres\, amb la voluntat de presentar tres aproximacions diferents a aquesta ferida i a la manera d’encarnar-la. Així doncs\, per mitjà de projeccions\, diàlegs i conferències generarem un espai de debat i reflexió sobre aquestes obres i sobre d’altres\, més contemporànies\, que han permès redescobrir avui aquestes creacions i les seves autores. \n  \nTània Balló Colell és cineasta\, escriptora\, divulgadora i investigadora cultural. És l’artífex i directora del projecte Las Sinsombrero (2014-actualitat) i de Las Anónimas. Obras sin relato en las colecciones de arte moderno de los museos españoles (Beca Leonardo a Investigadors i Creadors Culturals\, Fundación BBVA\, 2023). Com a cineasta destaquen els seus films El Museo Invisible (2023) i la trilogia documental Las Sinsombrero (2015-2021). És autora de la trilogia Las Sinsombrero (2016\, 2018\, 2022)\, de Querido Diario: hoy ha empezado la guerra (2017) i de Les Combatents. La història oblidada de les milicianes antifeixistes (2021). Ha estat comissària de les exposicions Jorge Semprún. El largo viaje (2024-2025)\, Las Sinsombrero (2022) i No Pasarán. 16 días Madrid 1936\, (2018). \n  \nLuis E. Parés és doctor en Comunicació per la Universitat Pompeu Fabra i director artístic de Cineteca Matadero Madrid. Ha treballat al Departament de Programació de la Filmoteca Española\, al Consell de Redacció de Caimán CDC i al comitè de programació del Festival de Cinema de Sevilla\, i va ser coordinador del programa de RTVE Historia de nuestro cine. Ha publicat els llibres Notes sur l’émigration-Espagne 1960. Apunts per a una pel·lícula invisible (2011) i Filmar el exilio desde Francia (2012). Ha realitzat els curtmetratges Los conspiradores (2021) i El espectro político (2023)\, així com el llargmetratge La primera mirada (2023). \n  \nProgramació prevista \n04.3.25 Filmar/reivindicar les memòries exiliades. Amb Tània Balló i Meritxell Colell \n22.4.25 L’exili com a motiu visual. Amb una conferència de Luis E. Parés \n20.5.25 Una nova humanitat. Amb Tània Balló\, Luís E. Parés i Maria Camí-Vela \n  \n \nMaría Luisa Elío en un fotograma d’En el balcón vacío
URL:https://museutapies.org/event/els-exilis-invisibles/
LOCATION:Museu Tàpies
CATEGORIES:Programa públic
ATTACH;FMTTYPE=image/jpeg:https://museutapies.org/wp-content/uploads/2025/02/novaimatgeciclecinemaexili.jpg
END:VEVENT
BEGIN:VEVENT
DTSTART;TZID=Europe/Madrid:20250320T180000
DTEND;TZID=Europe/Madrid:20250320T200000
DTSTAMP:20260422T102137
CREATED:20250313T133850Z
LAST-MODIFIED:20250317T102746Z
UID:10000937-1742493600-1742500800@museutapies.org
SUMMARY:L'art com a diàleg corporal. Càpsula formativa al voltant de l'exposició de Marta Palau amb Maria Macaya
DESCRIPTION:La nostra interacció amb les obres d’artistes com Marta Palau o Antoni Tàpies no és només visual o intel·lectual. Les seves obres tenen cos\, matèria\, textura\, pes i tridimensionalitat\, ens exigeixen respondre més enllà de la mirada\, involucrant tot el nostre cos. \nL’art no és un objecte estàtic davant nostre\, sinó una experiència que ens demana un diàleg transaccional: entra al nostre espai\, a la nostra pell\, a la nostra història\, i alhora ens demana que hi entrem\, que l’habitem. Com en qualsevol interacció humana\, hi ha resposta mútua: l’obra ens afecta i nosaltres l’afectem amb la nostra presència. \nEn aquest taller teoricopràctic explorarem com es construeix aquesta interacció: el que ja portem dins i com influeix en la nostra percepció\, sentit d’identitat i narrativa personal. La nostra postura i presència modelen l’experiència\, i la vivència roman amb nosaltres més enllà de l’instant de la trobada. \nUna proposta del programa de formació estable per a docents al voltant de tres eixos temàtics: escriptura crítica\, cos i malaltia\, i ecologia. Durant el curs es programaran diverses càpsules formatives al voltant d’aquestes temàtiques. En paral·lel\, es formarà un grup de treball amb docents de diversos nivells educatius per portar a terme una investigació educativa sobre aquests  eixos amb relació a l’obra d’Antoni Tàpies\, Serge Attukwei Clottey i Marta Palau. \nEls interessats en participar poden enviar un correu a: inscripcions@museutapies.org \n  \n[Imatge de l’obra de Marta Palau titulada Nómadas (1998)\, de l’exposició Marta Palau. Els meus camins són terrestres\, del Museu Tàpies de Barcelona.  © Colección Gassol Palau. Fotografia: Pep Herrero.]
URL:https://museutapies.org/event/lart-com-a-dialeg-corporal-capsula-formativa-al-voltant-de-lexposicio-de-marta-palau-amb-maria-macaya/
LOCATION:Museu Tàpies
CATEGORIES:Educació
ATTACH;FMTTYPE=image/jpeg:https://museutapies.org/wp-content/uploads/2025/03/WhatsApp-Image-2025-02-26-at-12.47.41-scaled.jpeg
END:VEVENT
END:VCALENDAR