BEGIN:VCALENDAR
VERSION:2.0
PRODID:-//Museu Tàpies - ECPv6.6.3//NONSGML v1.0//EN
CALSCALE:GREGORIAN
METHOD:PUBLISH
X-ORIGINAL-URL:https://museutapies.org
X-WR-CALDESC:Esdeveniments per Museu Tàpies
REFRESH-INTERVAL;VALUE=DURATION:PT1H
X-Robots-Tag:noindex
X-PUBLISHED-TTL:PT1H
BEGIN:VTIMEZONE
TZID:Europe/Madrid
BEGIN:DAYLIGHT
TZOFFSETFROM:+0100
TZOFFSETTO:+0200
TZNAME:CEST
DTSTART:20250330T010000
END:DAYLIGHT
BEGIN:STANDARD
TZOFFSETFROM:+0200
TZOFFSETTO:+0100
TZNAME:CET
DTSTART:20251026T010000
END:STANDARD
END:VTIMEZONE
BEGIN:VEVENT
DTSTART;VALUE=DATE:20250701
DTEND;VALUE=DATE:20250702
DTSTAMP:20260422T145655
CREATED:20250301T232303Z
LAST-MODIFIED:20250625T091026Z
UID:10000923-1751328000-1751414399@museutapies.org
SUMMARY:Una escotilla en el buit
DESCRIPTION:Si una obra d’art no aconsegueix aprofitar la màgia que existeix en les pròpies coses\, si utilitza els objectes només perquè signifiquin alguna cosa\, ha desaprofitat una de les seves grans possibilitats. Quan prenem un objecte i el fem significar alguna cosa\, el que estem fent és confirmar-nos a nosaltres mateixos. Estem confirmant els nostres propis conceptes sobre qui som i sobre què és el món. Però permetre que les coses siguin vistes com el que són ofereix un terreny més obert i fèrtil. Al cap i a la fi\, allò desconegut és pura aventura. \nEn el marc de l’exposició Antoni Tàpies. La imaginació del món el Museu Tàpies ha convidat Marc Caellas a desplegar quatre activacions de l’espai expositiu per tal de dotar d’una nova vida i d’una nova dimensió als materials que s’hi presenten amb la voluntat de repensar-los.  \n  \nActivacions \n  \n25.03.2025 – El fons de les coses. \nMarc Caellas\, natural de Barcelona\, és un artista que treballa amb l’escriptura\, el teatre\, la performance o la curadoria en projectes híbrids que esdevenen llibres\, obres de teatre\, instal·lacions o programes públics i festivals. \nEls seus dos últims llibres publicats són Notes de suïcidi (La Uña Rota\, 2022) i Dos homes que caminen (Menguantes\, 2022)\, aquest últim escrit a quatre mans amb Esteban Feune de Colombi. Anteriorment\, va publicar Carcelona (Melusina\, 2011)\, Caracaos (Melusina\, 2015)\, Drogotá (Planeta\, 2017)\, Neuros Aires (Libros del Zorzal\, 2020) i Teatro del bueno (Teatron Tinta\, 2015). \nHa participat en nombrosos festivals nacionals i internacionals de literatura i arts escèniques com el Festival Iberoamericà de Teatre de Bogotà\, el Festival de Palco e Rúa de Belo Horizonte (Brasil)\, la Biennal de Literatura de São Paulo\, FILBA (Buenos Aires)\, Festival Estival (San Martín de los Andes)\, FIT Cadis\, Festival TNT\, Festival IDEM Casa Encendida\, Festival Escenas do Cambio (Santiago)\, Festival Kosmopolis (CCCB)\, Festival de les Idees (Madrid)\, Festival Cuéntalo (Logronyo)\, Festival Nus (Barcelona)\, Festival Open Heart (Lanzarote)\, Meet You (Valladolid)\, Festival WHIM (Frías)\, entre d’altres. \nHa estat artista resident a Conde Duque Madrid\, Tokyo Arts and Space\, Nau Côclea i Ca’n Timoner Mallorca. \nHa estat reconegut\, en dues ocasions\, amb les ajudes a la creació literària del Ministeri de Cultura\, ha rebut les ajudes Iberescena a la coproducció teatral i ha estat finalista del premi BBVA a la millor obra de teatre amb Suicide Notes. \nHa impartit cursos d’escriptura creativa\, creació escènica i noves dramatúrgies al Museu del Chopo\, el Centre d’Art Conde Duque\, la Universitat de Barcelona\, la Universitat Central de Veneçuela\, la Universitat de los Andes i la Universitat de l’Atlàntic. \n  \n01.07.2025 – Ofrena a la Terra \nAl juliol\, la Terra està assedegada. Cal alimentar-la. L’ofrena a la terra és un ritu d’origen andí basat en la reciprocitat. S’agraeixen als déus els productes rebuts i se’ls fa una ofrena per saciar la seva fam i la seva set. \nConvidada per Marc Caellas\, la conservacionista i activista per l’Amazònia Magdalena Ruiz durà a terme un ritual d’agraïment. Aquesta acció —que és la segona activació del cicle Una escotilla en el buit\, concebut per Caellas en el marc de la mostra Antoni Tàpies. La imaginació del món— pretén qüestionar i ampliar la lectura tradicional de la mostra a partir de la creació d’uns espais en què les obres es confrontin amb el pensament contemporani i s’obrin a múltiples interpretacions.
URL:https://museutapies.org/event/una-escotilla-en-el-buit/
CATEGORIES:Programa públic
ATTACH;FMTTYPE=image/jpeg:https://museutapies.org/wp-content/uploads/2025/03/IMG_3397-scaled.jpeg
END:VEVENT
BEGIN:VEVENT
DTSTART;TZID=Europe/Madrid:20250701T180000
DTEND;TZID=Europe/Madrid:20250701T190000
DTSTAMP:20260422T145655
CREATED:20250422T153951Z
LAST-MODIFIED:20250627T124605Z
UID:10000986-1751392800-1751396400@museutapies.org
SUMMARY:Ofrena a la terra
DESCRIPTION:Al juliol\, la Terra està assedegada. Cal alimentar-la. L’ofrena a la terra és un ritu d’origen andí basat en la reciprocitat. S’agraeixen als déus els productes rebuts i se’ls fa una ofrena per saciar la seva fam i la seva set.  \nConvidada per Marc Caellas\, la conservacionista i activista per l’Amazònia Magdalena Ruiz durà a terme un ritual d’agraïment. Aquesta acció —que és la segona activació del cicle Una escotilla en el buit\, concebut per Caellas en el marc de la mostra Antoni Tàpies. La imaginació del món— pretén qüestionar i ampliar la lectura tradicional de la mostra a partir de la creació d’uns espais en què les obres es confrontin amb el pensament contemporani i s’obrin a múltiples interpretacions.
URL:https://museutapies.org/event/ofrena-a-la-terra/
CATEGORIES:Programa públic
ATTACH;FMTTYPE=image/jpeg:https://museutapies.org/wp-content/uploads/2025/04/pagament-a-la-terra-museu-tapies.jpg
END:VEVENT
END:VCALENDAR