BEGIN:VCALENDAR
VERSION:2.0
PRODID:-//Museu Tàpies - ECPv6.6.3//NONSGML v1.0//EN
CALSCALE:GREGORIAN
METHOD:PUBLISH
X-ORIGINAL-URL:https://museutapies.org
X-WR-CALDESC:Esdeveniments per Museu Tàpies
REFRESH-INTERVAL;VALUE=DURATION:PT1H
X-Robots-Tag:noindex
X-PUBLISHED-TTL:PT1H
BEGIN:VTIMEZONE
TZID:Europe/Madrid
BEGIN:DAYLIGHT
TZOFFSETFROM:+0100
TZOFFSETTO:+0200
TZNAME:CEST
DTSTART:20250330T010000
END:DAYLIGHT
BEGIN:STANDARD
TZOFFSETFROM:+0200
TZOFFSETTO:+0100
TZNAME:CET
DTSTART:20251026T010000
END:STANDARD
END:VTIMEZONE
BEGIN:VEVENT
DTSTART;TZID=Europe/Madrid:20250703T190000
DTEND;TZID=Europe/Madrid:20250703T200000
DTSTAMP:20260422T145718
CREATED:20250410T152027Z
LAST-MODIFIED:20250411T081607Z
UID:10000975-1751569200-1751572800@museutapies.org
SUMMARY:Muérdago
DESCRIPTION:  \nEl Museu Tàpies convida Adelaida a dialogar amb l’univers creatiu de Marta Palau\, amb un concert que posa de manifest com la cantant i l’artista comparteixen una dimensió ritualística que connecta el cos amb la natura i la memòria ancestral. A través de sonoritats orgàniques i atmosferes envoltants\, Muérdago (Vesc) evoca un espai de transició i transformació similar als territoris simbòlics que Palau construeix amb els seus materials primigenis\, com la fusta\, la terra o les fibres vegetals. Ambdues creacions invoquen una experiència sensorial i mística\, en què la matèria i el gest es converteixen en canals per a una connexió profunda amb el sagrat i el tel·lúric. \nAdelaida viu i treballa a la lluna plena. Sirena del cel i de l’infern\, alça la veu en un conjur. Nascuda i crescuda a Barcelona\, es gradua en Belles Arts a la Central Saint Martins alimentant la naturalesa performativa del seu projecte. La seva formació en cant clàssic a l’Orfeó Català es palpa en el seu innovador i personal llenguatge compositiu\, amb què explora els límits de la veu i els seus potencials expressius i ritualístics. A l’escenari es transforma en au fènix; d’au fènix en rapsoda; de rapsoda\, en nereida… \nLa cantautora i productora catalana ha tret recentment el seu segon àlbum\, Muérdago. Es tracta d’un àlbum amb moltes preguntes i poques respostes. Infinits i delicats mantres sonors marquen aquest laberint ASMR farcit de penes i desitjos esfereïts. Hi aplega des de l’ambient més coral a l’electrònica més fosca i barroca\, sempre mantenint la veu com a protagonista. L’àlbum compta amb la col·laboració dels productors catalans MANS O i Pura Cadera\, i ha estat masteritzat per Rashad Becker. El directe va ser estrenat a Sónar 2024 amb una proposta hipnòtica i atmosfèrica\, i des d’aleshores ha anat girant per Europa i\, recentment\, Mèxic. \nAdelaida va debutar amb Cántaro (Càntir)\, un àlbum que va treballar amb LANAV i que va sortir al setembre de 2022\, construït amb capes de veu infinites. El va presentar a Primavera Sound 2022 i 2023\, a l’Eufònic 2022 a la Fundació Joan Miró\, al Festival BAM 2023 i a She Makes Noise 2023\, entre moltes d’altres. \n  \n© Bo Bannink
URL:https://museutapies.org/event/muerdago/
LOCATION:Museu Tàpies
CATEGORIES:Programa públic
ATTACH;FMTTYPE=image/jpeg:https://museutapies.org/wp-content/uploads/2025/04/Adelaida.-Muerdago.jpg
END:VEVENT
END:VCALENDAR