BEGIN:VCALENDAR
VERSION:2.0
PRODID:-//Museu Tàpies - ECPv6.6.3//NONSGML v1.0//EN
CALSCALE:GREGORIAN
METHOD:PUBLISH
X-WR-CALNAME:Museu Tàpies
X-ORIGINAL-URL:https://museutapies.org
X-WR-CALDESC:Esdeveniments per Museu Tàpies
REFRESH-INTERVAL;VALUE=DURATION:PT1H
X-Robots-Tag:noindex
X-PUBLISHED-TTL:PT1H
BEGIN:VTIMEZONE
TZID:Europe/Madrid
BEGIN:DAYLIGHT
TZOFFSETFROM:+0100
TZOFFSETTO:+0200
TZNAME:CEST
DTSTART:20250330T010000
END:DAYLIGHT
BEGIN:STANDARD
TZOFFSETFROM:+0200
TZOFFSETTO:+0100
TZNAME:CET
DTSTART:20251026T010000
END:STANDARD
END:VTIMEZONE
BEGIN:VEVENT
DTSTART;TZID=Europe/Madrid:20250707T093000
DTEND;TZID=Europe/Madrid:20250711T140000
DTSTAMP:20260422T162304
CREATED:20250521T112705Z
LAST-MODIFIED:20250616T121003Z
UID:10001016-1751880600-1752242400@museutapies.org
SUMMARY:Extramurs. Casal d'estiu
DESCRIPTION:Què és l’espai públic? Quin ús en podem fer? S’hi pot organitzar una exposició? Quin és el lloc de l’art: el museu o el carrer? \nEn el marc del projecte Extramurs\, que té com a objectius la reflexió sobre el medi ambient i l’espai públic\, i el diàleg entre entitats de la ciutat\, us proposem una setmana dedicada a l’art contemporani\, on explorem el dins i el fora del museu. D’una banda\, coneixerem el museu per dins: com funciona o s’organitza; com es prepara una exposició; quines persones hi treballen. Per l’altra\, a través de tallers d’experimentació i visites dinamitzades\, descobrirem un projecte artístic que tindrà lloc dins i fora del museu: Transitar La Quema\, de l’artista Elena del Rivero. La seva proposta parteix d’una acció que va consistir a cremar les seves obres. Es pot crear a través de la destrucció? Què passa després d’una crema? Quins rastres en queden? Quina memòria? A través de l’exemple del projecte d’Elena del Rivero\, ens endinsarem en les pràctiques artístiques contemporànies i ens els seus llocs de creació i exposició. \nUna proposta del Museu Tàpies per a joves de 12 a 17 anys \nActivitat amb la col·laboració de La Capella\, festival Grec\, Santa Maria del Pi i Tantàgora. \n  \nPrograma \n· Dia 1 (7.7.2025) \nQui és el comissari o comissària d’una exposició? Sabem com funciona un museu? Quines feines fan les persones que hi treballen? On es guarden les obres d’art quan no estan a les sales d’exposició? A través de diversos jocs i dinàmiques coneixerem de més a prop el Museu Tàpies i el seu funcionament. Visitarem espais que habitualment no són accessibles al públic. I iniciarem la creació d’un mapa molt personal de la ciutat que ens guiarà durant els cinc dies de casal. \n· Dia 2 (8.7.2025) \nAnirem a Santa Maria del Pi. De camí cap a aquest espai ens fixarem en els murs i amb altres detalls que ens parlin de la memòria de la ciutat. Visitarem l’interior de l’església\, on hi ha una de les obres d’Elena de Rivero\, i pujarem dalt del campanar\, una talaia perfecte per orientar-nos entre els carrerons de Ciutat Vella. \n· Dia 3 (9.7.2025) \nVisitarem el Centre d’Art La Capella on veurem el muntatge en directe d’una exposició\, la de Milena Rossignoli. També retrobarem el projecte de La Quema d’Elena de Rivero a través de les intervencions que l’artista ha realitzat en aquest centre. Reflexionarem sobre el paper de l’art dins i fora del museu a través d’una pràctica artística col·laborativa. \n· Dia 4 (10.7.2025) \nPujarem fins als jardins de El Grec de Montjuïc a veure les obres d’Elena de Rivero i els preparatius pel festival que cada nit se celebra en aquest recinte. Aprendrem formes d’intervenir artísticament en l’espai públic. \n· Dia 5 (11.7.2025) \nCada matí de la setmana haurem recollit diversos rastres i petits objectes dels llocs que visitarem. Amb aquests materials\, elaborarem un llibre d’artista i acabarem el mapa de la ciutat que ens ha acompanyat al llarg d’aquests cinc dies. \n  \nLa Quema\, 5 d’octubre de 2024. Fotografia: Pablo Gómez Ogando
URL:https://museutapies.org/event/extramurs-casal-destiu/
LOCATION:Museu Tàpies
CATEGORIES:Educació
ATTACH;FMTTYPE=image/jpeg:https://museutapies.org/wp-content/uploads/2025/04/Elena-del-Rivero_LaQuema_MTa2025.jpg
END:VEVENT
BEGIN:VEVENT
DTSTART;TZID=Europe/Madrid:20250708T193000
DTEND;TZID=Europe/Madrid:20250708T210000
DTSTAMP:20260422T162304
CREATED:20250505T162020Z
LAST-MODIFIED:20250708T155631Z
UID:10001000-1752003000-1752008400@museutapies.org
SUMMARY:Llorenç Barber. L'espai alliberat
DESCRIPTION:  \nExtramurs és un projecte artístic del Museu Tàpies que concep la ciutat com un espai d’intervenció i mediació. Amb un enfocament multidisciplinari i plural\, fomenta el diàleg interinstitucional\, el diàleg amb l’espai públic i el diàleg amb el medi ambient. Amb la col·laboració estable d’EINA Centre Universitari de Disseny i Art de Barcelona i del Festival Grec\, Extramurs contribueix a repensar el paper de la institució des d’una perspectiva més holística\, mitjançant intervencions i activitats que responen a les necessitats contemporànies i que fomenten noves narratives comunitàries a l’espai urbà. Inspirant-se en els conceptes de coneixement situat\, aquest esperit impulsa la reflexió sobre com mediem amb l’entorn i com podem habitar el món d’una manera més conscient i integradora. A la vegada\, el gest de considerar els murs de l’espai públic com a portadors de les veus ciutadanes\, espais on es materialitzen els discursos col·lectius i es resignifiquen les experiències compartides\, ens connecta directament amb el pensament tapià. \nAmb un caràcter anual\, cada edició d’Extramurs es presenta a l’espai públic coincidint amb el Festival Grec. Per a l’edició de 2025 s’ha convidat l’artista Elena del Rivero\, sota el comissariat de Mateo Feijóo\, a desplegar el projecte Transitar La Quema. Es tracta d’una proposta que parteix d’un intens treball de recerca i producció col·laborativa al voltant de la crema de les primeres obres de l’artista com a gest de sanació. \nLes instal·lacions concebudes per Del Rivero com a part del projecte Extramurs\, en col·laboració amb estudiants d’EINA Centre Universitari de Disseny i Art de Barcelona\, es mostraran a la façana i a l’interior del Museu Tàpies\, al Centre d’Art La Capella\, a la basílica de Santa Maria del Pi\, a Galeria Senda\, a Loop Barcelona i als jardins del Teatre Grec. L’exposició inclourà fotografies\, collages\, objectes i un rètol lluminós. La cartografia d’aquests espais intervinguts convidarà a reflexionar sobre la resiliència de les estructures humanes i socials\, així com sobre el diàleg entre passat i present\, posant en evidència les tensions i continuïtats que defineixen la història en la construcció de la ciutat contemporània. \nL’acte inaugural de Transitar “La Quema” tindrà lloc als jardins de Rubió i Lluch amb el concert L’espai alliberat\, que anirà a càrrec de Llorenç Barber\, músic\, compositor\, musicòleg\, campanòleg i pioner de l’art sonor a Europa. Aquest artista visual i sonor\, que és considerat l’introductor del minimalisme a Espanya\, ha creat un campanar portàtil amb el qual ha desenvolupat una tècnica interpretativa pròpia. Els concerts de campanes de Barber s’han celebrat a més de dues-centes ciutats de vint països diferents. Han servit per clausurar tres capitalitats culturals (Lisboa\, Copenhaguen i Estocolm); han sonat en biennals i fires d’art del Japó\, França\, Tailàndia i Brasil\, i han inaugurat dos cops la Cimera Internacional de Caps d’Estat i de Govern (a Salamanca i a Roma). \nEl so de les campanes ens introduirà\, doncs\, en el món d’Elena del Rivero\, una artista internacional compromesa amb la reparació i la memòria. Us convidem a reflexionar plegats sobre la resiliència de les estructures humanes i socials i sobre el diàleg entre passat i present posant en evidència les tensions i continuïtats que defineixen la història en la construcció de la ciutat contemporània. \n  \nAmb la col·laboració d’estudiants d’instruments de vent i percussió del Conservatori Municipal de Música de Barcelona\, de la Fundació Conservatori del Liceu\, de l’Escola de Música l’Antàrtida de Barcelona\, de l’Escola Municipal de les Arts de Santa Perpètua de la Mogoda i de la banda musical La Valenciana\, i amb la complicitat de l’ESMUC. \n  \nUna coproducció del Grec Festival de Barcelona 2025 i el Museu Tàpies \n  \nExtramurs és una iniciativa del Museu Tàpies amb la col·laboració d’EINA Centre Universitari de Disseny i Art de Barcelona i festival Grec i amb la complicitat de Centre d’Art La Capella\, Basílica de Santa Maria del Pi\, Galeria Senda i Loop Barcelona \nAutoria: Elena del Rivero \nComissariat: Mateo Feijóo \nLa realització de Elena del Rivero – La Quema\, a Galícia\, impulsada per A Casa do Pozo\, va comptar amb el suport de: AECID i Fundación Cañada Blanch \n  \n 
URL:https://museutapies.org/event/llorenc-barber-lespai-alliberat/
LOCATION:Jardins de Rubió i Lluch\, c. Hospital\, 56\, Barcelona
CATEGORIES:Programa públic
ATTACH;FMTTYPE=image/jpeg:https://museutapies.org/wp-content/uploads/2025/05/llorenc-barber.jpg
END:VEVENT
END:VCALENDAR