BEGIN:VCALENDAR
VERSION:2.0
PRODID:-//Museu Tàpies - ECPv6.6.3//NONSGML v1.0//EN
CALSCALE:GREGORIAN
METHOD:PUBLISH
X-WR-CALNAME:Museu Tàpies
X-ORIGINAL-URL:https://museutapies.org
X-WR-CALDESC:Esdeveniments per Museu Tàpies
REFRESH-INTERVAL;VALUE=DURATION:PT1H
X-Robots-Tag:noindex
X-PUBLISHED-TTL:PT1H
BEGIN:VTIMEZONE
TZID:Europe/Madrid
BEGIN:DAYLIGHT
TZOFFSETFROM:+0100
TZOFFSETTO:+0200
TZNAME:CEST
DTSTART:20250330T010000
END:DAYLIGHT
BEGIN:STANDARD
TZOFFSETFROM:+0200
TZOFFSETTO:+0100
TZNAME:CET
DTSTART:20251026T010000
END:STANDARD
END:VTIMEZONE
BEGIN:VEVENT
DTSTART;TZID=Europe/Madrid:20250301T120000
DTEND;TZID=Europe/Madrid:20250614T120000
DTSTAMP:20260422T132046
CREATED:20250204T114348Z
LAST-MODIFIED:20250619T151901Z
UID:10000887-1740830400-1749902400@museutapies.org
SUMMARY:Aproximacions. Visita comentada 2025
DESCRIPTION:Visita comentada a les exposicions en curs del Museu Tàpies\, amb una introducció a la història de l’edifici. \n  \nExposicions en curs: \n  \n· Antoni Tàpies. La imaginació del món \n· Marta Palau. Els meus camins són terrestres \n· Anna Malagrida. Opacitas. Velar la transparència \n· Noor Abed. A Night We Held Between \n  \n  \n \n 
URL:https://museutapies.org/event/aproximacions-visita-comentada-2025/
LOCATION:Museu Tàpies
CATEGORIES:Educació
ATTACH;FMTTYPE=image/jpeg:https://museutapies.org/wp-content/uploads/2025/02/i-k74b6sw-XL-1.jpg
END:VEVENT
BEGIN:VEVENT
DTSTART;TZID=Europe/Madrid:20250603T180000
DTEND;TZID=Europe/Madrid:20250603T190000
DTSTAMP:20260422T132046
CREATED:20250529T150349Z
LAST-MODIFIED:20250602T104724Z
UID:10001023-1748973600-1748977200@museutapies.org
SUMMARY:Pols. Laboratori de recerca col·laborativa 2025. Presentació pública
DESCRIPTION:Presentació pública dels resultats de la recerca que han portat a terme Meritxell Cañas\, Natalia Domínguez i Salva G. Ojeda\, artistes seleccionats en el marc de la convocatòria Pols. Laboratori de recerca col·laborativa\, amb l’acompanyament de l’artista Marc Larré. \nL’objectiu d’aquesta convocatòria és la selecció d’un grup de tres artistes que hagin passat per la Sala d’Art Jove de la Generalitat de Catalunya en les últimes cinc edicions per configurar un grup de treball que investigui la materialitat en la creació contemporània i que posi en contacte les persones seleccionades amb les línies vigents del Museu Tàpies. \nAmb la convocatòria Pols. Laboratori de recerca col·laborativa es vol incentivar la recerca i l’experimentació matèrica\, generant un espai de treball col·lectiu i col·laboratiu on s’estableixin vincles entre les persones seleccionades i el Museu Tàpies. \nActivitat realitzada en col·laboració amb la Sala d’Art Jove.
URL:https://museutapies.org/event/pols-laboratori-de-recerca-collaborativa-2025-presentacio-publica-web/
CATEGORIES:Educació
ATTACH;FMTTYPE=image/jpeg:https://museutapies.org/wp-content/uploads/2025/05/i-P99X4vR-XL.jpg
END:VEVENT
BEGIN:VEVENT
DTSTART;TZID=Europe/Madrid:20250611T170000
DTEND;TZID=Europe/Madrid:20250611T190000
DTSTAMP:20260422T132046
CREATED:20250404T100618Z
LAST-MODIFIED:20250611T162539Z
UID:10000963-1749661200-1749668400@museutapies.org
SUMMARY:Teixint generacions. Projecte intergeneracional al voltant de l’art tèxtil i l’obra de Marta Palau
DESCRIPTION:Proposo un diàleg en què jo parlaré amb un llenguatge de nusos\, cordes trenades\, formes trenades. El meu llenguatge serà […] el clamor aspre de la corda trencada\, nuada\, teixida\, torçada\, trenada\, amarrada… \nRosendo Cuesta.\nFragment de Marta Palau\, notas de una entrevista imaginaria a Marta Palau\,\na El arte feminista de Marta Palau (Vindictas Artes Visuales\, TV UNAM). Vegeu el vídeo \n  \nTeixint generacions té l’objectiu de generar un espai de trobada i d’intercanvi de coneixements al voltant de l’art tèxtil. El projecte s’adreça a un grup format per dotze persones procedents dels Espais de Gent Gran de l’Eixample de Barcelona\, sis persones de l’Eix Jove de l’Eixample i sis alumnes vinculades al taller de tèxtil de l’Escola Massana.  \nEs proposarà al grup un diàleg amb l’obra de Marta Palau a través de tres sessions pràctiques dedicades a l’experimentació amb tècniques de tissatge i de nusos. Es dedicarà una atenció especial als materials emprats\, donant prioritat a aquells que estiguin vinculats al territori o a l’entorn personal de cada participant.  \nEl projecte conclourà amb una activitat pública per retre compte dels processos i resultats de les sessions\, la qual inclourà una performance a càrrec de membres del G.A.C. (Grup d’Acció Creativa) de l’Eix Jove de l’Eixample. \n  \nContingut \n  \n· Sessió 1 (30 d’abril): visita a l’exposició Marta Palau. Els meus camins són terrestres. Per parelles\, s’elaborarà un petit tapís amb un bastidor vertical. Prèviament\, es prepararan els telers amb l’ordit i s’ensenyarà quins tipus de fibres i materials es poden utilitzar per a la trama. \n  \n· Sessió 2 (14 de maig): elaboració col·laborativa d’un gran tapís format per materials procedents del territori i d’altres que hauran portat les persones participants. La pràctica es planteja com un detonant per a l’intercanvi de relats al voltant dels materials\, les seves qualitats i la seva procedència. En aquesta sessió es comptarà amb la participació especial del projecte Tornen les esquelles i de la firma de disseny Cortana. \n  \n· Sessió 3 (28 de maig): elaboració col·laborativa d’un tapís circular de macramé a tall d’aproximació als volums escultòrics i als nusos emprats per Marta Palau. \n  \n· Presentació pública (11 de juny): mostra de resultats i presentació dels processos tècnics i d’aprenentatge del projecte. La sessió conclourà amb una performance que dialogarà amb l’obra de Marta Palau\, conceptualitzada i executada pels integrants del G.A.C. (Grup d’Acció Creativa) de l’Eix Jove de l’Eixample. \n 
URL:https://museutapies.org/event/teixint-generacions-projecte-intergeneracional-al-voltant-de-lart-textil-i-lobra-de-marta-palau/
LOCATION:Museu Tàpies
CATEGORIES:Educació
ATTACH;FMTTYPE=image/jpeg:https://museutapies.org/wp-content/uploads/2025/04/Marta-Palau.jpg
END:VEVENT
BEGIN:VEVENT
DTSTART;TZID=Europe/Madrid:20250614T190000
DTEND;TZID=Europe/Madrid:20250614T200000
DTSTAMP:20260422T132046
CREATED:20250602T150709Z
LAST-MODIFIED:20250603T111851Z
UID:10001028-1749927600-1749931200@museutapies.org
SUMMARY:Seguint el sol. Adrasha
DESCRIPTION:El projecte mebrat / መብራት neix d’una investigació en curs sobre els fars entesos com una arquitectura inusual que\, paradoxalment\, ressona tant amb la idea de guia com amb la de frontera. L’artista experimental i DJ de sons ha dedicat temps a estudiar les diferents periodicitats amb què els fars emeten llum\, i les ha traduït en diversos ritmes i sons.  \nAllunyant-se de les connotacions nàutiques del far\, la performance sonora busca connectar amb complexitats emocionals i geopolítiques com la pàtria\, la necessitat de viatjar\, les identitats compostes\, els canvis en la comunicació i els destins en mutació\, mitjançant una sèrie de gravacions de camp i mostres autobiogràfiques: enregistraments d’àudio d’amics i familiars a Etiòpia i Espanya\, entrellaçats amb textures de la seva pròpia veu i motius marítims.  \nAquest collage sonor —amb una col·laboració de Bamba\, del col·lectiu Jokkoo— esdevé una meditació sobre la fragilitat de la memòria i la identitat\, l’origen i la destinació\, l’acceptació i la resistència. \n  \nAdrasha és una artista multidisciplinària etíop establerta a Barcelona. Va començar la seva trajectòria com a ballarina a Addis Abeba\, influenciada per sons tradicionals i urbans de la Banya d’Àfrica. Centrat a explorar sons underground —en particular\, la música de club contemporània procedent del continent africà i la seva diàspora—\, el treball d’Adrasha intenta crear un diàleg entre expressions sonores híbrides\, com l’afropunk\, el Gqom\, el Future Dancehall i la música electrònica experimental actual. \nUna sessió en el marc de la segona edició del cicle “Seguint el sol” \, a cura de Gabriel Virgilio Luciani \n 
URL:https://museutapies.org/event/seguint-el-sol-adrasha/
CATEGORIES:Programa públic
ATTACH;FMTTYPE=image/jpeg:https://museutapies.org/wp-content/uploads/2025/06/m4.jpeg
END:VEVENT
BEGIN:VEVENT
DTSTART;TZID=Europe/Madrid:20250619T183000
DTEND;TZID=Europe/Madrid:20250619T210000
DTSTAMP:20260422T132046
CREATED:20250508T140901Z
LAST-MODIFIED:20250512T123257Z
UID:10001005-1750357800-1750366800@museutapies.org
SUMMARY:Florilegi de terres i cossos. Performance d’Equipo Jeleton
DESCRIPTION:Equipo Jeleton ens ofereix una lectura oracular pública del tarot Florilegio interpel·lant l’exposició Marta Palau. Els meus camins són terrestres. Llançar fils al passat i al futur per dialogar amb les obres i els seus enigmes. \nEl tarot Florilegio d’Equipo Jeleton reuneix principis de la seva Història política de les flors en 25 arcans que comuniquen parts del cos\, plantes i flors\, i figures al·legòriques. \nLa performance es realitzarà en dos torns. \n  \nEquipo Jeleton està format des de 1999 per Gelen Alcántara Sánchez (Múrcia\, 1975) i Jesús Arpal Moya (Barakaldo\, 1972). D’una manera crítica i tortuosa\, reprenen repertoris literaris\, musicals i visuals amb la intenció de transmutar verí en medecina. Recentment han presentat a Hangar\, Bulegoa Z/B\, Bilbao Museoa\, MACBA\, Fundació Miró\, Centro Párraga\, La Taller\, Universitat Miguel Hernández i Tabakalera.
URL:https://museutapies.org/event/florilegi-de-terres-i-cossos-performance-dequipo-jeleton/
CATEGORIES:Programa públic
ATTACH;FMTTYPE=image/jpeg:https://museutapies.org/wp-content/uploads/2025/05/foto_tarot.jpg
END:VEVENT
BEGIN:VEVENT
DTSTART;TZID=Europe/Madrid:20250626T190000
DTEND;TZID=Europe/Madrid:20250626T193000
DTSTAMP:20260422T132046
CREATED:20250424T081022Z
LAST-MODIFIED:20250625T104708Z
UID:10000989-1750964400-1750966200@museutapies.org
SUMMARY:Performances s/títol amb Esther Ferrer
DESCRIPTION:La segona edició del cicle Les cadires de Tàpies té el privilegi de comptar amb Esther Ferrer\, una figura pionera de l’art d’acció que ha fet del cos una eina essencial de resistència\, expressió i pensament. Ferrer entén el cos no només com a matèria\, sinó com a suport simbòlic de vivències\, memòries i conflictes. La seva pràctica incideix en la persistència del gest\, en la construcció del temps a través de la repetició i en la capacitat del cos per conservar i transmetre\, gairebé com una pell escrita\, les tensions entre el jo i el món.  \nA partir del silenci\, l’humor i la radicalitat\, des d’un posicionament coherent i lliure es confronta amb allò que està establert\, i ofereix una mirada singular sobre com els cossos resisteixen i relaten tot esdevenint arxius sensibles d’identitat\, absència i presència. En aquest marc\, Ferrer ens convidarà\, doncs\, a celebrar el gest com a memòria viva\, com un lloc des d’on el cos crida\, interroga i es transforma. \n  \nEsther Ferrer realitza accions des de mitjans dels anys seixanta\, ja sigui de manera individual o com a membre del grup ZAJ (dissolt l’any 1996). A principis de la dècada de 1960 va crear\, juntament amb el pintor José Antonio Sistiaga\, el primer Taller d’Expressió Lliure\, germen de moltes altres activitats paral·leles\, entre les quals una escola experimental a Elorrio (Biscaia). A partir de mitjans dels anys setanta\, reprèn la seva activitat plàstica amb fotografies treballades\, instal·lacions\, quadres basats en la sèrie de nombres primers o en el nombre pi\, objectes\, etc. \nAl llarg de la seva extensa trajectòria com a artista de performance\, ha participat en festivals d’Espanya\, Alemanya\, Itàlia\, Suïssa\, Bèlgica\, França\, Dinamarca\, Noruega\, Anglaterra\, Holanda\, Polònia\, Eslovàquia\, República Txeca\, Hongria\, Bulgària\, Estats Units\, Canadà\, Mèxic\, Cuba\, Brasil\, Tailàndia\, Japó\, Corea i Palestina\, entre d’altres. \nHa exposat la seva obra plàstica a: Museo Reina Sofía (Madrid)\, Galerie J. & J. Donguy (París)\, Galerie Lara Vincy (París)\, Galerie Satellite (París)\, Galeria Trayecto (Alava)\, Staatsgalerie Stuttgart\, Koldo Mitxelena (Sant Sebastià)\, Galeria Àngels (Barcelona)\, Galeria Trinta (Santiago de Compostel·la)\, Galeria 1 Mira Madrid (Madrid)\, Centro Andaluz de Arte Contemporáneo (Sevilla)\, Museu d’Art Contemporani de Roskilde (Dinamarca)\, Círculo de Bellas Artes (Madrid)\, MOCARoma (Ciutat de Mèxic)\, Museu de Belles Arts (Rio de Janeiro)\, ARTIUM (Vitòria)\, Es Baluard (Palma)\, Centre Cultural Georges Pompidou (París)\, Centro Galego de Arte Contemporánea (la Corunya)\, MAC/VAL (Vitry-sur-Seine\, França)\, CEART (Fuenlabrada)\, Museo Guggenheim Bilbao i Centre nacional de la danse (Lió)\, etc. \nHa impartit nombrosos cursos a universitats\, museus i escoles de Belles Arts al Canadà\, França\, Itàlia\, Mèxic i Suïssa\, a més d’Espanya. \nEl 1999 va ser una de les dues artistes que van representar Espanya a la Biennal de Venècia. \nEntre els premis rebuts destaquen: Trace: John Boehme Performance Art – Life Time Achievement Award (2006); Premi Nacional d’Arts Plàstiques (2008); Premi Gure Artea del Govern Basc (2012); Premi MAV\, Dones en les Arts Visuals (2014); Premi Marie Claire de l’art contemporain (2014); Premi Velázquez (2014); Tamborrada d’Or de la ciutat de Sant Sebastià-Donostia (2022); Premi Bernard Heidsieck – Centre Georges Pompidou (2022); i Premi Francisco Prieto – Fàbrica Nacional de Moneda i Timbre (2024). \n  \n[Fotografia: Inauguració del carrer Marcel Duchamp a París\, 1995. Foto: A. Szfran.]
URL:https://museutapies.org/event/performances-s-titol/
CATEGORIES:Programa públic
ATTACH;FMTTYPE=image/jpeg:https://museutapies.org/wp-content/uploads/2025/04/Screenshot_1.jpg
END:VEVENT
BEGIN:VEVENT
DTSTART;TZID=Europe/Madrid:20250627T120000
DTEND;TZID=Europe/Madrid:20250627T133000
DTSTAMP:20260422T132046
CREATED:20250619T152952Z
LAST-MODIFIED:20250623T075031Z
UID:10001031-1751025600-1751031000@museutapies.org
SUMMARY:Antoni Llena. Memòries de fum
DESCRIPTION:  \nLes editorials L’Avenç i Blume presenten\, de forma conjunta\, la publicació Antoni Llena. Memòries de fum a la terrassa del Museu Tàpies. \nEn aquest llibre\, Antoni Llena mira d’explicar una consciència artística a partir de mancances i pors\, en un fresc que es va desplegant com un mural farcit de contradiccions. Primer hi esbossa l’entorn familiar\, la coneixença de la primera persona amb qui va relacionar-se i amb la qual encara viu\, la permanència d’una amistat. Hi continua explicant la seva singular descoberta de l’art\, el seu voler estar al món des de la distància\, cercar la modernitat des de l’anacronisme. La seva aposta de viure al món des de fora del món. El seu descobriment de l’art\, els seus interessos i ambicions. La seva aposta particular i les arrels que l’han feta créixer. La lluita per trobar un espai propi\, trencador\, però que no estigués deslligat de la tradició. Les personalitats artístiques que l’han format. Les obres que ha fet i les que l’han senyat. El camí fet sense haver-se traçat fites per aconseguir-lo. L’erotisme\, els amors i les fòbies i un llarg etcètera. L’entendre l’art com un fet polític deslligat de les opcions polítiques de moda. I\, tot plegat\, intentant que estigui ben escrit. \nL’acte comptarà amb la participació de l’autor\, Antoni Llena; del filòsof Xavier Antich\, i dels editors Leopoldo Blume i Josep M. Muñoz. \n  \n \nFoto: Antoni Bernad
URL:https://museutapies.org/event/antoni-llena-memories-de-fum/
LOCATION:Museu Tàpies
CATEGORIES:Programa públic
ATTACH;FMTTYPE=image/jpeg:https://museutapies.org/wp-content/uploads/2025/06/Tapies_Llena.jpg
END:VEVENT
END:VCALENDAR