BEGIN:VCALENDAR
VERSION:2.0
PRODID:-//Museu Tàpies - ECPv6.6.3//NONSGML v1.0//EN
CALSCALE:GREGORIAN
METHOD:PUBLISH
X-ORIGINAL-URL:https://museutapies.org/en/
X-WR-CALDESC:Events for Museu Tàpies
REFRESH-INTERVAL;VALUE=DURATION:PT1H
X-Robots-Tag:noindex
X-PUBLISHED-TTL:PT1H
BEGIN:VTIMEZONE
TZID:UTC
BEGIN:STANDARD
TZOFFSETFROM:+0000
TZOFFSETTO:+0000
TZNAME:UTC
DTSTART:20240101T000000
END:STANDARD
TZID:Europe/Madrid
BEGIN:DAYLIGHT
TZOFFSETFROM:+0100
TZOFFSETTO:+0200
TZNAME:CEST
DTSTART:20240331T010000
END:DAYLIGHT
BEGIN:STANDARD
TZOFFSETFROM:+0200
TZOFFSETTO:+0100
TZNAME:CET
DTSTART:20241027T010000
END:STANDARD
END:VTIMEZONE
BEGIN:VEVENT
DTSTART;TZID=UTC:20240719T190000
DTEND;TZID=UTC:20240719T193000
DTSTAMP:20260424T230604
CREATED:20240610T082233Z
LAST-MODIFIED:20240612T124021Z
UID:10000748-1721415600-1721417400@museutapies.org
SUMMARY:The Chairs of Tàpies: Blanca Llum Vidal and Los Sara Fontán
DESCRIPTION:  \n \n  \nThe Chairs of Tàpies is a series of multidisciplinary sound actions organised in the context of the Tàpies Centenary Year\, with the collaboration of Pompeu Fabra University. The proposal focuses on the voice and words to create a sound accompaniment to oral memory. In this way\, each of the thirteen sessions will feature a creator whose starting point will be the chair\, taken as a performative object\, linking back to the creative universe of Tàpies through the expressive languages and settings of the present day. \nThe eighth proposal of the series was conceived by Blanca Llum Vidal and Los Sara Fontán\, in an action that modulates textures\, processes the voice and lends musicality to things which perhaps were not meant to be music. Bringing together a host of authors\, the invited artists will attempt to transform words into rhythmic matter\, extracting sounds out of things while building a narrative. As occurs in Tàpies\, the chair will not just be an idea\, but above all an object and a reality to be considered\, agitated and meditated upon. \n  \nBlanca Llum Vidal studied Social Work and Catalan Philology\, and has a Master in Contemporary Thought. She works in the Zona Franca of Barcelona in a shelter for people who are functional diverse. With Arnau Pons she has translated La Douleur\, by Marguerite Duras\, and individually has translated Duras’s book Écrire. She has edited the poetry of Àngel Guimerà\, Mercè Rodoreda’s letters from exile to Anna Murià\, short stories by Víctor Català\, Dues Catalunyes: jocfloralescos i xarons\, by Àngel Carmona and\, amongst other projects\, the book accompanying the exhibition on Francesc Tosquelles and the catalogue for Agnès Varda\, to be released this year at the CCCB. She was editor of an anthology of feminist essays by Maria Aurèlia Capmany\, and has recited her work in the Catalan Countries\, Spain\, Ukraine\, Santiago de Chile and Buenos Aires (at the International Book Fair). She has written about Ausiàs March\, Blanchot\, Kafka\, Rodoreda\, Arendt\, Hersch\, Català and Duras\, amongst others. In 2023 she released an anthology of her work\, published by Textos Sentido Edição & Letras\, translated to Portuguese by Àlex Tarradellas\, and is currently preparing an anthology of her work to be translated into Italian by Marcelo Belotti\, and into Spanish by Unai Velasco. Her publications include La cabra que hi havia\, Nosaltres i tu\, Homes i ocells\, Visca!\, Punyetera flor\, Maripasoula (crònica d’un viatge a la Guaiana francesa)\, Aquest amor que no és u / Este amor que no es uno (Spanish translation by Berta García Faet)\, Amor a la brega\, La princesa sou Vós / La princesa sois Vos (Spanish translation by Unai Velasco)\, Llegir petit i escriure sobre literatura i amor and No cometràs adulteri. She has published in the Quadern supplement of El País and in the political and cultural daily El Temps\, and is currently a regular contributor to the digital review Catorze. She has been on stage with Maria Callís to perform La Infanticida\, by Víctor Català\, performing as well with the classic and post-rock music of Los Sara Fontán\, and most recently with the sound designs of Julián D’Avino\, in a show taking its aim at contradictions in politics\, love\, ethics and aesthetics\, both old and new. This year she was an invitee to the Guadalajara Book Fair (Mexico). \nLos Sara Fontán is an experimental duo featuring Sara Fontán and Edi Pou. They focus on live performance of a physical\, passionate and punk character\, ever-changing and open to the surroundings. A concert by Los Sara Fontán is a play on melody and rhythm\, adding features of programmatic romanticism to directly and indirectly narrate a story\, giving audience members freedom to interpret the work in a personal manner. \nStimulated by the question of whether it is possible to advance a career in music without following the productive routines of the music industry\, Los Sara Fontán spent five years touring\, playing at festivals and self-run venues across Europe\, without recording their music. This was possible thanks to a musical and personal underground network they feel fortunate to belong to. In the autumn of 2023\, they released Queda pendiente\, an album done at their own residence\, which they performed\, recorded and produced themselves. \nTheir music is open code\, as the prolific duo continually recomposes its own creations to open them up to broader\, multidisciplinary collectives\, whether other musicians (SO with Amorante\, 4132314 with Tarta Relena and Cocanha)\, different communities (Laboratório dos Riscos Impossíveis\, with residents of the Fontainhas neighbourhood in Porto)\, dancers (Fem una bona pena abans de morir\, with Sònia Gómez)\, poetry (La princesa sou Vós\, with Blanca Llum Vidal)\, theatre (Concrete Matter\, by Los Detectives\, and Songs for the bitch-witch women\, by Mariona Naudin)\, or TV series and films (the soundtracks for Autodefensa\, Magaluf Ghost Town and Remember My Name). \n  \nThis session of The Chairs of Tàpies will be part of the opening programme of the exhibition Antoni Tàpies. The Practice of Art.
URL:https://museutapies.org/en/event/the-chairs-of-tapies-blanca-llum-vidal-and-los-sara-fontan/
LOCATION:Museu Tàpies
CATEGORIES:Public Programme
ATTACH;FMTTYPE=image/jpeg:https://museutapies.org/wp-content/uploads/2024/01/I24-Blanca-Llum-001-scaled.jpg
END:VEVENT
BEGIN:VEVENT
DTSTART;TZID=Europe/Madrid:20240719T190000
DTEND;TZID=Europe/Madrid:20240719T220000
DTSTAMP:20260424T230604
CREATED:20240714T161729Z
LAST-MODIFIED:20240714T221138Z
UID:10000800-1721415600-1721426400@museutapies.org
SUMMARY:Antoni Tàpies. The Practice of Art | Opening programme
DESCRIPTION:  \nAntoni Tàpies The Practice of Art will be opened on July 19\, 2024\,  at 7 p.m.\, with an event curated by Imma Prieto and Judith Barnés\, which will feature the participation of Blanca Llum Vidal and Los Sara Fontán; Lolo&Sosaku and the tribute to Mika Vainio. \n  \nProgramme \n· Blanca Llum Vidal and Los Sara Fontán. Poetic action \nPublic presentation of the eighth “Tapies’ Chairs” programme. An action that will modulate textures\, process voices and give sound to what perhaps was not intended to be music. Summoning a lot of authors\, the poet and the musicians will try to transform the word into rhythmic matter and extract sounds from things to build a story. The chair\, like Tàpies\, will not only be an idea. It will be\, above all\, an object and reality to think about\, stir\, meditate on. \n  \n· Interlude. Tribute to Mika Vainio \nAs an interlude\, the work of Mika Vainio Sondear (Probe)  will allow us to hear what sounds in real time on the roof of the museum with the sculpture by Antoni Tàpies Núvol i Cadira (1990). This sound installation by the Finnish artist\, created in 2001 as part of the exhibition Discourse architectures\, was reactivated for the project Engagement within the framework of the Sónar 2022 festival\, which once again collaborates with the museum for this inauguration. \n  \n· Lolo & Sosaku. Sound piece Tribute to Antoni Tàpies \nUsing a set of machines and a vintage piano\, belonging to the composer and musical theorist Josep Barberà i Humbert\, a sound space will be built that will represent Tàpies’ relationship with the music of Luigi Nonno or Giacinto Scelsi\, among others. To do this\, the piano in question will be manipulated with the intervention of machines\, the human voice and the texts that Tàpies wrote in his paintings. The entire proposal will feature the participation of the soprano Ximena Agurto and the multidisciplinary artist Renata Gelosi. \n  \n· Cocktail on the terraces with music from DJ Bla&co \n  \n[Image: Piano & Machines\, Lolo & Sosaku\, 2020.]
URL:https://museutapies.org/en/event/antoni-tapies-the-practice-of-art-opening-programme/
CATEGORIES:Public Programme
ATTACH;FMTTYPE=image/png:https://museutapies.org/wp-content/uploads/2024/07/Piano-amb-maquina.png
END:VEVENT
END:VCALENDAR