BEGIN:VCALENDAR
VERSION:2.0
PRODID:-//Museu Tàpies - ECPv6.6.3//NONSGML v1.0//EN
CALSCALE:GREGORIAN
METHOD:PUBLISH
X-ORIGINAL-URL:https://museutapies.org/en/
X-WR-CALDESC:Events for Museu Tàpies
REFRESH-INTERVAL;VALUE=DURATION:PT1H
X-Robots-Tag:noindex
X-PUBLISHED-TTL:PT1H
BEGIN:VTIMEZONE
TZID:Europe/Madrid
BEGIN:DAYLIGHT
TZOFFSETFROM:+0100
TZOFFSETTO:+0200
TZNAME:CEST
DTSTART:20240331T010000
END:DAYLIGHT
BEGIN:STANDARD
TZOFFSETFROM:+0200
TZOFFSETTO:+0100
TZNAME:CET
DTSTART:20241027T010000
END:STANDARD
END:VTIMEZONE
BEGIN:VEVENT
DTSTART;TZID=Europe/Madrid:20240725T180000
DTEND;TZID=Europe/Madrid:20240725T200000
DTSTAMP:20260425T040924
CREATED:20240709T113409Z
LAST-MODIFIED:20250526T095705Z
UID:10000791-1721930400-1721937600@museutapies.org
SUMMARY:Picnic at the Museu Tàpies! 2024
DESCRIPTION:Tickets\n \nWould you like to spend a summer afternoon at the museum to discover the exhibition Antoni Tàpies. The Practice of Art with your family\, and then have a picnic on the terrace? Come with your own evening meal and we will invite you to a drink to celebrate the Tàpies Centenary Year! \nWe have prepared various proposals so that together you can enjoy the exhibition\, along with a creative workshop that will be held in three different time slots: 6 pm\, 6.30 pm and 7 pm. \nIncollaboration with El Culturista
URL:https://museutapies.org/en/event/picnic-at-the-museu-tapies/
LOCATION:Museu Tàpies
CATEGORIES:Family
ATTACH;FMTTYPE=image/jpeg:https://museutapies.org/wp-content/uploads/2024/07/Picnic-al-Museu-Tapies.jpeg
END:VEVENT
END:VCALENDAR